BEGIN:VCALENDAR

VERSION:2.0

PRODID:-//hacksw/handcal//NONSGML v1.0//EN

BEGIN:VEVENT

UID:27c7b06ac56faf84c649e0ab5e6f7b3f

DTSTAMP:20210226T051759Z

DTSTART:20210227T110000

DTEND:20210227T113000

SUMMARY:L3008397 - 19/29-31 Shore Street East, CLEVELAND QLD 4163

LOCATION:19/29-31 Shore Street East, CLEVELAND QLD 4163

END:VEVENT

END:VCALENDAR