BEGIN:VCALENDAR
VERSION:2.0
PRODID:icalendar-ruby
CALSCALE:GREGORIAN
METHOD:PUBLISH
BEGIN:VTIMEZONE
TZID:Australia/Brisbane
BEGIN:STANDARD
DTSTART:19920301T020000
TZOFFSETFROM:+1100
TZOFFSETTO:+1000
TZNAME:AEST
END:STANDARD
END:VTIMEZONE
BEGIN:VEVENT
DTSTAMP:20260421T091743Z
UID:inspection_2954703
DTSTART;TZID=Australia/Brisbane:20260318T161500
DTEND;TZID=Australia/Brisbane:20260318T163000
CLASS:PUBLIC
CREATED:20260316T113650
DESCRIPTION: 
LAST-MODIFIED:20260316T113650
LOCATION:3 / 104-106 Wynyard Street\, CLEVELAND QLD 4163\, Australia
SUMMARY:3 / 104-106 Wynyard Street\,  Inspection
URL;VALUE=URI:https://www.networkrealty.com.au
END:VEVENT
END:VCALENDAR
